BEGIN:VCALENDAR
VERSION:2.0
PRODID:-//Endis Ltd/Insight//NONSGML v1.0//EN
X-WR-CALNAME:Kings Church, Christchurch NZ
X-WR-CALDESC:Latest events from Kings Church, Christchurch NZ
X-PUBLISHED-TTL:PT1440M
BEGIN:VEVENT
UID:E1000906375@US.endis.com
DTSTART:20180127T213000Z
DTEND:20180127T231500Z
SUMMARY:King's Sunday Meeting
DESCRIPTION:Please come an join us for our Sunday meeting.  Worship\, teaching\, kids work\, creche\, tea & coffee.  Come as you are.
LOCATION:Catholic Cathedral College 62 Ferry Road Christchurch
END:VEVENT
BEGIN:VEVENT
UID:E1000906376@US.endis.com
DTSTART:20180203T213000Z
DTEND:20180203T231500Z
SUMMARY:King's Sunday Meeting
DESCRIPTION:Please come an join us for our Sunday meeting.  Worship\, teaching\, kids work\, creche\, tea & coffee.  Come as you are.
LOCATION:Catholic Cathedral College 62 Ferry Road Christchurch
END:VEVENT
BEGIN:VEVENT
UID:E1000906377@US.endis.com
DTSTART:20180210T213000Z
DTEND:20180210T231500Z
SUMMARY:King's Sunday Meeting
DESCRIPTION:Please come an join us for our Sunday meeting.  Worship\, teaching\, kids work\, creche\, tea & coffee.  Come as you are.
LOCATION:Catholic Cathedral College 62 Ferry Road Christchurch
END:VEVENT
BEGIN:VEVENT
UID:E1000906378@US.endis.com
DTSTART:20180217T213000Z
DTEND:20180217T231500Z
SUMMARY:King's Sunday Meeting
DESCRIPTION:Please come an join us for our Sunday meeting.  Worship\, teaching\, kids work\, creche\, tea & coffee.  Come as you are.
LOCATION:Catholic Cathedral College 62 Ferry Road Christchurch
END:VEVENT
BEGIN:VEVENT
UID:E1000906379@US.endis.com
DTSTART:20180224T213000Z
DTEND:20180224T231500Z
SUMMARY:King's Sunday Meeting
DESCRIPTION:Please come an join us for our Sunday meeting.  Worship\, teaching\, kids work\, creche\, tea & coffee.  Come as you are.
LOCATION:Catholic Cathedral College 62 Ferry Road Christchurch
END:VEVENT
BEGIN:VEVENT
UID:E1000906380@US.endis.com
DTSTART:20180303T213000Z
DTEND:20180303T231500Z
SUMMARY:King's Sunday Meeting
DESCRIPTION:Please come an join us for our Sunday meeting.  Worship\, teaching\, kids work\, creche\, tea & coffee.  Come as you are.
LOCATION:Catholic Cathedral College 62 Ferry Road Christchurch
END:VEVENT
BEGIN:VEVENT
UID:E1000906381@US.endis.com
DTSTART:20180310T213000Z
DTEND:20180310T231500Z
SUMMARY:King's Sunday Meeting
DESCRIPTION:Please come an join us for our Sunday meeting.  Worship\, teaching\, kids work\, creche\, tea & coffee.  Come as you are.
LOCATION:Catholic Cathedral College 62 Ferry Road Christchurch
END:VEVENT
BEGIN:VEVENT
UID:E1000906382@US.endis.com
DTSTART:20180317T213000Z
DTEND:20180317T231500Z
SUMMARY:King's Sunday Meeting
DESCRIPTION:Please come an join us for our Sunday meeting.  Worship\, teaching\, kids work\, creche\, tea & coffee.  Come as you are.
LOCATION:Catholic Cathedral College 62 Ferry Road Christchurch
END:VEVENT
BEGIN:VEVENT
UID:E1000906383@US.endis.com
DTSTART:20180324T213000Z
DTEND:20180324T231500Z
SUMMARY:King's Sunday Meeting
DESCRIPTION:Please come an join us for our Sunday meeting.  Worship\, teaching\, kids work\, creche\, tea & coffee.  Come as you are.
LOCATION:Catholic Cathedral College 62 Ferry Road Christchurch
END:VEVENT
BEGIN:VEVENT
UID:E1000906384@US.endis.com
DTSTART:20180331T223000Z
DTEND:20180401T001500Z
SUMMARY:King's Sunday Meeting
DESCRIPTION:Please come an join us for our Sunday meeting.  Worship\, teaching\, kids work\, creche\, tea & coffee.  Come as you are.
LOCATION:Catholic Cathedral College 62 Ferry Road Christchurch
END:VEVENT
BEGIN:VEVENT
UID:E1000906385@US.endis.com
DTSTART:20180407T223000Z
DTEND:20180408T001500Z
SUMMARY:King's Sunday Meeting
DESCRIPTION:Please come an join us for our Sunday meeting.  Worship\, teaching\, kids work\, creche\, tea & coffee.  Come as you are.
LOCATION:Catholic Cathedral College 62 Ferry Road Christchurch
END:VEVENT
BEGIN:VEVENT
UID:E1000906386@US.endis.com
DTSTART:20180414T223000Z
DTEND:20180415T001500Z
SUMMARY:King's Sunday Meeting
DESCRIPTION:Please come an join us for our Sunday meeting.  Worship\, teaching\, kids work\, creche\, tea & coffee.  Come as you are.
LOCATION:Catholic Cathedral College 62 Ferry Road Christchurch
END:VEVENT
BEGIN:VEVENT
UID:E1000906387@US.endis.com
DTSTART:20180421T223000Z
DTEND:20180422T001500Z
SUMMARY:King's Sunday Meeting
DESCRIPTION:Please come an join us for our Sunday meeting.  Worship\, teaching\, kids work\, creche\, tea & coffee.  Come as you are.
LOCATION:Catholic Cathedral College 62 Ferry Road Christchurch
END:VEVENT
BEGIN:VEVENT
UID:E1000906388@US.endis.com
DTSTART:20180428T223000Z
DTEND:20180429T001500Z
SUMMARY:King's Sunday Meeting
DESCRIPTION:Please come an join us for our Sunday meeting.  Worship\, teaching\, kids work\, creche\, tea & coffee.  Come as you are.
LOCATION:Catholic Cathedral College 62 Ferry Road Christchurch
END:VEVENT
BEGIN:VEVENT
UID:E1000906389@US.endis.com
DTSTART:20180505T223000Z
DTEND:20180506T001500Z
SUMMARY:King's Sunday Meeting
DESCRIPTION:Please come an join us for our Sunday meeting.  Worship\, teaching\, kids work\, creche\, tea & coffee.  Come as you are.
LOCATION:Catholic Cathedral College 62 Ferry Road Christchurch
END:VEVENT
BEGIN:VEVENT
UID:E1000906390@US.endis.com
DTSTART:20180512T223000Z
DTEND:20180513T001500Z
SUMMARY:King's Sunday Meeting
DESCRIPTION:Please come an join us for our Sunday meeting.  Worship\, teaching\, kids work\, creche\, tea & coffee.  Come as you are.
LOCATION:Catholic Cathedral College 62 Ferry Road Christchurch
END:VEVENT
BEGIN:VEVENT
UID:E1000906391@US.endis.com
DTSTART:20180519T223000Z
DTEND:20180520T001500Z
SUMMARY:King's Sunday Meeting
DESCRIPTION:Please come an join us for our Sunday meeting.  Worship\, teaching\, kids work\, creche\, tea & coffee.  Come as you are.
LOCATION:Catholic Cathedral College 62 Ferry Road Christchurch
END:VEVENT
BEGIN:VEVENT
UID:E1000906392@US.endis.com
DTSTART:20180526T223000Z
DTEND:20180527T001500Z
SUMMARY:King's Sunday Meeting
DESCRIPTION:Please come an join us for our Sunday meeting.  Worship\, teaching\, kids work\, creche\, tea & coffee.  Come as you are.
LOCATION:Catholic Cathedral College 62 Ferry Road Christchurch
END:VEVENT
BEGIN:VEVENT
UID:E1000906393@US.endis.com
DTSTART:20180602T223000Z
DTEND:20180603T001500Z
SUMMARY:King's Sunday Meeting
DESCRIPTION:Please come an join us for our Sunday meeting.  Worship\, teaching\, kids work\, creche\, tea & coffee.  Come as you are.
LOCATION:Catholic Cathedral College 62 Ferry Road Christchurch
END:VEVENT
BEGIN:VEVENT
UID:E1000906394@US.endis.com
DTSTART:20180609T223000Z
DTEND:20180610T001500Z
SUMMARY:King's Sunday Meeting
DESCRIPTION:Please come an join us for our Sunday meeting.  Worship\, teaching\, kids work\, creche\, tea & coffee.  Come as you are.
LOCATION:Catholic Cathedral College 62 Ferry Road Christchurch
END:VEVENT
BEGIN:VEVENT
UID:E1000906395@US.endis.com
DTSTART:20180616T223000Z
DTEND:20180617T001500Z
SUMMARY:King's Sunday Meeting
DESCRIPTION:Please come an join us for our Sunday meeting.  Worship\, teaching\, kids work\, creche\, tea & coffee.  Come as you are.
LOCATION:Catholic Cathedral College 62 Ferry Road Christchurch
END:VEVENT
END:VCALENDAR
